BEGIN:VCALENDAR
VERSION:2.0
PRODID:-//Squarespace Inc/Squarespace 6//v6//EN
BEGIN:VEVENT
UID:5d0c282985b51f00015a1573@squarespace.com
DTSTAMP:20190621T022334Z
DTSTART:20190927T040000Z
DTEND:20190929T010000Z
SUMMARY:Kaleidoscope Retreats
GEO:-43.653681;172.638185
LOCATION:153 Bamfords Rd\, Teddington\, Canterbury\, 8971\, New Zealand
END:VEVENT
END:VCALENDAR
